BEGIN:VCALENDAR
VERSION:2.0
PRODID:-//The Stables Yoga Centre York - ECPv4.9.12//NONSGML v1.0//EN
CALSCALE:GREGORIAN
METHOD:PUBLISH
X-WR-CALNAME:The Stables Yoga Centre York
X-ORIGINAL-URL:https://stablesyoga.co.uk
X-WR-CALDESC:Events for The Stables Yoga Centre York
BEGIN:VTIMEZONE
TZID:UTC
BEGIN:STANDARD
TZOFFSETFROM:+0000
TZOFFSETTO:+0000
TZNAME:UTC
DTSTART:20260101T000000
END:STANDARD
END:VTIMEZONE
BEGIN:VEVENT
DTSTART;TZID=UTC:20260118T100000
DTEND;TZID=UTC:20260118T163000
DTSTAMP:20260421T110909
CREATED:20231016T125217Z
LAST-MODIFIED:20250807T124457Z
UID:14945-1768730400-1768753800@stablesyoga.co.uk
SUMMARY:YOGA FOUNDATION COURSE 2026
DESCRIPTION:Dates for the 2026 course are one Sunday per month January – June \n\nJan 18\nFeb 15\nMarch 29\nApril 19\nMay 17\nJune 28\n\nThe teachers are Sophie Carr and Chloe McKay. \nThis course is for those of you who want to deepen your practice and study of yoga. \nWe will explore the following topics: \n– History of yoga\, different styles\, modern traditions and their difficulties.\n– Patanjali’s Eight Limbs of Yoga\, ethics and lifestyle.\n– Mindfulness and meditation\, embodiment and presence.\n– Listening and compassion practices.\n– Asana and alignment in more depth.\n– Inversions.\n– Pranayama.\n– Developing a home practice. \nThe sessions will be in-person only and the group will be kept small. Registration is by application. Each session will comprise of talks\, group discussion\, practical movement elements\, sharing\, meditation and relaxation. Sessions will not be recorded\, but if you miss a session we can give you our notes and you will receive the handouts. Sessions cannot be booked separately – you must register for the entire course. \nThere will be some course reading which you’ll need to do before each session. We also hope you will do some home practice between each session. We intend to share all the reading with you digitally so you won’t need to buy books – but we will recommend books if you choose to read more. \nThe cost for the course is £495. \nThere will be one discounted bursary place – please email for details. \nplease email us to register interest for the next 6 month course beginning in January 2025. \nFeedback from the course: \n“An opportunity to go deeper into personal practice and to learn more about every aspect of yoga. I’m loving it and welcome the chance to develop my practice in the company of other yogis. Highly recommended.” \n“I have loved this course. It’s been fascinating learning the history of Yoga. It has also been special to spend time being so expertly supported in the philosophy of yoga and how this is integrated into modern life. Thanks.” \n“I am incredibly grateful for the profound experience of the Yoga Foundation course. Under the guidance of instructors\, Sophie and Chloe\, with their vast knowledge\, experience and compassion\, I have been gently led through the many layers of yoga practice and philosophy. With a course blending asana\, pranayama\, mindfulness\, historical and philosophical teachings\, I have been able to discover a deeper connection with my mind\, body and spirit. I can whole heartedly recommend this course for anyone on their yoga journey\, looking to deepen their understanding and yoga practice and cultivate a greater sense of awareness and wellbeing. Thank you.” \n
URL:https://stablesyoga.co.uk/event/yoga-foundation-2026
LOCATION:The Stables Yoga Centre\, 10a Nunmill St\, York\, North Yorkshire\, YO23 1NU\, United Kingdom
CATEGORIES:Training,Workshops
ATTACH;FMTTYPE=image/jpeg:https://stablesyoga.co.uk/wp-content/uploads/2023/03/IMG-0840-rotated-e1678288500711.jpg
END:VEVENT
END:VCALENDAR