BEGIN:VCALENDAR
VERSION:2.0
PRODID:-//The Stables Yoga Centre York - ECPv4.9.12//NONSGML v1.0//EN
CALSCALE:GREGORIAN
METHOD:PUBLISH
X-WR-CALNAME:The Stables Yoga Centre York
X-ORIGINAL-URL:https://stablesyoga.co.uk
X-WR-CALDESC:Events for The Stables Yoga Centre York
BEGIN:VTIMEZONE
TZID:UTC
BEGIN:STANDARD
TZOFFSETFROM:+0000
TZOFFSETTO:+0000
TZNAME:UTC
DTSTART:20260101T000000
END:STANDARD
END:VTIMEZONE
BEGIN:VEVENT
DTSTART;TZID=UTC:20260214T123000
DTEND;TZID=UTC:20260214T133000
DTSTAMP:20260421T094517
CREATED:20251217T231859Z
LAST-MODIFIED:20251217T231859Z
UID:17193-1771072200-1771075800@stablesyoga.co.uk
SUMMARY:Palentines Partner Yoga With Dora
DESCRIPTION:Come and celebrate connection and movement with a playful blend of partner yoga and acroyoga this Valentines Day! \nThis workshop is all about sharing the joy of mindful movement with someone you love spending time with: your best friend\, your mum\, your partner\, or a brand new pal you meet on the mat. (Yes\, if you come alone you will make friends\, we promise!) \nWe’ll explore a full-body stretch sequence designed to be accessible for every body and every level\, from complete beginners to seasoned yogis. Working in pairs\, you’ll learn how to support each other into deeper\, more aligned stretches\, discover balance challenges\, and experiment with creative partner shapes that look as fun as they feel. \nExpect giggles\, gentle challenge\, and plenty of uplifting moments as you build confidence\, connection and strength together. \n\nCost: £24 / Concessions £18 \n
URL:https://stablesyoga.co.uk/event/palentines-partner-yoga-with-dora
LOCATION:The Stables Yoga Centre\, 10a Nunmill St\, York\, North Yorkshire\, YO23 1NU\, United Kingdom
CATEGORIES:Workshops
ATTACH;FMTTYPE=image/png:https://stablesyoga.co.uk/wp-content/uploads/2025/12/Screenshot-2025-12-17-231800.png
END:VEVENT
END:VCALENDAR