BEGIN:VCALENDAR
VERSION:2.0
PRODID:-//The Stables Yoga Centre York - ECPv4.9.12//NONSGML v1.0//EN
CALSCALE:GREGORIAN
METHOD:PUBLISH
X-WR-CALNAME:The Stables Yoga Centre York
X-ORIGINAL-URL:https://stablesyoga.co.uk
X-WR-CALDESC:Events for The Stables Yoga Centre York
BEGIN:VTIMEZONE
TZID:UTC
BEGIN:STANDARD
TZOFFSETFROM:+0000
TZOFFSETTO:+0000
TZNAME:UTC
DTSTART:20260101T000000
END:STANDARD
END:VTIMEZONE
BEGIN:VEVENT
DTSTART;TZID=UTC:20260320T190000
DTEND;TZID=UTC:20260320T210000
DTSTAMP:20260421T081712
CREATED:20260115T142626Z
LAST-MODIFIED:20260115T142626Z
UID:17278-1774033200-1774040400@stablesyoga.co.uk
SUMMARY:Spring Equinox with Chloe Mckay
DESCRIPTION:The Spring Equinox marks the astronomical first day of spring and the point at which the sun illuminates the northern and southern hemispheres equally bringing more balance between night and day. At this Friday night yoga session\, we’ll celebrate its arrival and the warmer\, lighter and longer days. Come and awaken your body to spring with some dynamic slow flow yoga where we’ll explore backbends and twists to gently stimulate the system and balance poses to focus and centre the body and mind. The evening will slow down with some soothing yin yoga followed by a long relaxation to lead you into the weekend with a smile. \n
URL:https://stablesyoga.co.uk/event/spring-equinox-with-chloe-mckay
LOCATION:The Stables Yoga Centre\, 10a Nunmill St\, York\, North Yorkshire\, YO23 1NU\, United Kingdom
CATEGORIES:Workshops
ATTACH;FMTTYPE=image/jpeg:https://stablesyoga.co.uk/wp-content/uploads/2026/01/Spring-Equinox-2026-2.jpg
END:VEVENT
END:VCALENDAR